BEGIN:VCALENDAR
PRODID;X-RICAL-TZSOURCE=TZINFO:-&#47;&#47;com.denhaven2&#47;NONSGML ri_cal gem&#47;&#47;EN
CALSCALE:GREGORIAN
VERSION:2.0
BEGIN:VEVENT
DTEND;VALUE=DATE:20090415
DTSTART;VALUE=DATE:20090415
DESCRIPTION:1.0 is due on 04&#47;15&#47;09 (8 tickets)
SUMMARY:Milestone for Rext: 1.0
LOCATION:https:&#47;&#47;visionmedia.lighthouseapp.com&#47;projects&#47;28074&#47;milestones&#47;
 35358-10
END:VEVENT
BEGIN:VEVENT
DTEND;VALUE=DATE:20090601
DTSTART;VALUE=DATE:20090601
DESCRIPTION:0.1 rusty spoon is due on 06&#47;01&#47;09 (12 tickets)
SUMMARY:Milestone for Evolution: 0.1 rusty spoon
LOCATION:https:&#47;&#47;visionmedia.lighthouseapp.com&#47;projects&#47;27993&#47;milestones&#47;
 35224-03-rusty-spoon
END:VEVENT
END:VCALENDAR
